BEGIN:VCALENDAR
VERSION:2.0
PRODID:icalendar-ruby
CALSCALE:GREGORIAN
METHOD:PUBLISH
BEGIN:VEVENT
DTSTAMP:20260423T133056Z
UID:25-6757032@man.oakridgebaptistchurch.ca
DTSTART:20261004T183000Z
DTEND:20261004T193000Z
CLASS:PUBLIC
CREATED:20260423T062529
DESCRIPTION:粵語崇拜
LAST-MODIFIED:20260423T062529
LOCATION:
SUMMARY:粵語崇拜
URL;VALUE=URI:https://man.oakridgebaptistchurch.ca/events/25/2026-10-04
END:VEVENT
END:VCALENDAR
