BEGIN:VCALENDAR
VERSION:2.0
PRODID:icalendar-ruby
CALSCALE:GREGORIAN
METHOD:PUBLISH
BEGIN:VEVENT
DTSTAMP:20260423T181628Z
UID:25-6760004@man.oakridgebaptistchurch.ca
DTSTART:20261025T183000Z
DTEND:20261025T193000Z
CLASS:PUBLIC
CREATED:20260423T091808
DESCRIPTION:粵語崇拜
LAST-MODIFIED:20260423T091808
LOCATION:
SUMMARY:粵語崇拜
URL;VALUE=URI:https://man.oakridgebaptistchurch.ca/events/25/2026-10-25
END:VEVENT
END:VCALENDAR
