BEGIN:VCALENDAR
VERSION:2.0
PRODID:icalendar-ruby
CALSCALE:GREGORIAN
METHOD:PUBLISH
BEGIN:VEVENT
DTSTAMP:20260423T195852Z
UID:25-6762974@man.oakridgebaptistchurch.ca
DTSTART:20261101T193000Z
DTEND:20261101T203000Z
CLASS:PUBLIC
CREATED:20260423T121524
DESCRIPTION:粵語崇拜
LAST-MODIFIED:20260423T121524
LOCATION:
SUMMARY:粵語崇拜
URL;VALUE=URI:https://man.oakridgebaptistchurch.ca/events/25/2026-11-01
END:VEVENT
END:VCALENDAR
