BEGIN:VCALENDAR
VERSION:2.0
PRODID:icalendar-ruby
CALSCALE:GREGORIAN
METHOD:PUBLISH
BEGIN:VEVENT
DTSTAMP:20260420T101624Z
UID:35-6698043@man.oakridgebaptistchurch.ca
DTSTART:20260923T171500Z
DTEND:20260923T190000Z
CLASS:PUBLIC
CREATED:20260419T220344
DESCRIPTION:
LAST-MODIFIED:20260419T220344
LOCATION:
SUMMARY:約拿單查經小組(粵語)線上聚會
URL;VALUE=URI:https://man.oakridgebaptistchurch.ca/events/35/2026-09-23
ATTACH;FILENAME=branch with tiny flowers white.jpg;FMTTYPE=image/jpeg:https
 ://dq5pwpg1q8ru0.cloudfront.net/2019/05/01/09/42/05/bd761309-7fcf-4a43-ba6
 9-5c7661fc63d3/branch%20with%20tiny%20flowers%20white.jpg
END:VEVENT
END:VCALENDAR
