BEGIN:VCALENDAR
VERSION:2.0
PRODID:icalendar-ruby
CALSCALE:GREGORIAN
METHOD:PUBLISH
BEGIN:VEVENT
DTSTAMP:20260420T133017Z
UID:35-6703975@man.oakridgebaptistchurch.ca
DTSTART:20261007T171500Z
DTEND:20261007T190000Z
CLASS:PUBLIC
CREATED:20260420T060157
DESCRIPTION:
LAST-MODIFIED:20260420T060157
LOCATION:
SUMMARY:約拿單查經小組(粵語)線上聚會
URL;VALUE=URI:https://man.oakridgebaptistchurch.ca/events/35/2026-10-07
ATTACH;FILENAME=branch with tiny flowers white.jpg;FMTTYPE=image/jpeg:https
 ://dq5pwpg1q8ru0.cloudfront.net/2019/05/01/09/42/05/bd761309-7fcf-4a43-ba6
 9-5c7661fc63d3/branch%20with%20tiny%20flowers%20white.jpg
END:VEVENT
END:VCALENDAR
