BEGIN:VCALENDAR
VERSION:2.0
PRODID:icalendar-ruby
CALSCALE:GREGORIAN
METHOD:PUBLISH
BEGIN:VEVENT
DTSTAMP:20260424T224411Z
UID:36-6784305@man.oakridgebaptistchurch.ca
DTSTART:20240405T173000Z
DTEND:20240405T190000Z
CLASS:PUBLIC
CREATED:20260424T145005
DESCRIPTION:
LAST-MODIFIED:20260424T145005
LOCATION:教會副堂
SUMMARY:國語禱告查經
URL;VALUE=URI:https://man.oakridgebaptistchurch.ca/events/36/2024-04-05
ATTACH;FILENAME=branch flowers white.jpg;FMTTYPE=image/jpeg:https://dq5pwpg
 1q8ru0.cloudfront.net/2019/06/18/09/50/44/4f84a622-62dd-4610-a939-3a5f5d6b
 c2ec/branch%20flowers%20white.jpg
END:VEVENT
END:VCALENDAR
