BEGIN:VCALENDAR
VERSION:2.0
PRODID:icalendar-ruby
CALSCALE:GREGORIAN
METHOD:PUBLISH
BEGIN:VEVENT
DTSTAMP:20260423T124637Z
UID:5-6752548@man.oakridgebaptistchurch.ca
DTSTART:20261004T163000Z
DTEND:20261004T173000Z
CLASS:PUBLIC
CREATED:20260423T032943
DESCRIPTION:國語崇拜
LAST-MODIFIED:20260423T032943
LOCATION:
SUMMARY:國語崇拜
URL;VALUE=URI:https://man.oakridgebaptistchurch.ca/events/5/2026-10-04
END:VEVENT
END:VCALENDAR
