BEGIN:VCALENDAR
VERSION:2.0
PRODID:icalendar-ruby
CALSCALE:GREGORIAN
METHOD:PUBLISH
BEGIN:VEVENT
DTSTAMP:20260423T144012Z
UID:5-6755518@man.oakridgebaptistchurch.ca
DTSTART:20261011T163000Z
DTEND:20261011T173000Z
CLASS:PUBLIC
CREATED:20260423T062523
DESCRIPTION:國語崇拜
LAST-MODIFIED:20260423T062523
LOCATION:
SUMMARY:國語崇拜
URL;VALUE=URI:https://man.oakridgebaptistchurch.ca/events/5/2026-10-11
END:VEVENT
END:VCALENDAR
