BEGIN:VCALENDAR
VERSION:2.0
PRODID:icalendar-ruby
CALSCALE:GREGORIAN
METHOD:PUBLISH
BEGIN:VEVENT
DTSTAMP:20260423T174751Z
UID:5-6758489@man.oakridgebaptistchurch.ca
DTSTART:20261025T163000Z
DTEND:20261025T173000Z
CLASS:PUBLIC
CREATED:20260423T091802
DESCRIPTION:國語崇拜
LAST-MODIFIED:20260423T091802
LOCATION:
SUMMARY:國語崇拜
URL;VALUE=URI:https://man.oakridgebaptistchurch.ca/events/5/2026-10-25
END:VEVENT
END:VCALENDAR
