BEGIN:VCALENDAR
VERSION:2.0
PRODID:icalendar-ruby
CALSCALE:GREGORIAN
METHOD:PUBLISH
BEGIN:VEVENT
DTSTAMP:20260423T191316Z
UID:5-6758490@man.oakridgebaptistchurch.ca
DTSTART:20261101T173000Z
DTEND:20261101T183000Z
CLASS:PUBLIC
CREATED:20260423T091802
DESCRIPTION:國語崇拜
LAST-MODIFIED:20260423T091802
LOCATION:
SUMMARY:國語崇拜
URL;VALUE=URI:https://man.oakridgebaptistchurch.ca/events/5/2026-11-01
END:VEVENT
END:VCALENDAR
